BEGIN:VCALENDAR
VERSION:2.0
PRODID:-//hacksw/handcal//NONSGML v1.0//EN
BEGIN:VEVENT
SUMMARY:Jeu libre Paques 2026
UID:412f480e-3acb-40b2-8b77-8e2dc941666d
DTSTART:20260420T170000Z
DTEND:20260420T200000Z
LOCATION:Gymnase Jean Moulin Gymnase Jean Moulin 77340 
CATEGORIES:Festif
STATUS:
URL;VALUE=URI:https://www.umspc-badminton.com/evenements/2026/04/20/jeu-libre-paques-2026-2441064
END:VEVENT
END:VCALENDAR
