BEGIN:VCALENDAR
VERSION:2.0
PRODID:-//hacksw/handcal//NONSGML v1.0//EN
BEGIN:VEVENT
SUMMARY:Jeu libre Paques 2026
UID:1326f3d2-ae98-49a9-8d92-df841762b479
DTSTART:20260421T170000Z
DTEND:20260421T210000Z
LOCATION:Gymnase Jacqueline Auriol Gymnase Jacqueline Auriol 77340 
CATEGORIES:Festif
STATUS:
URL;VALUE=URI:https://www.umspc-badminton.com/evenements/2026/04/21/jeu-libre-paques-2026-2441738
END:VEVENT
END:VCALENDAR
