BEGIN:VCALENDAR
VERSION:2.0
PRODID:-//hacksw/handcal//NONSGML v1.0//EN
BEGIN:VEVENT
SUMMARY:Jeu libre Paques 2026
UID:1cda9e50-f110-4a23-8d6e-4a8a22a52719
DTSTART:20260423T170000Z
DTEND:20260423T210000Z
LOCATION:Gymnase Jacqueline Auriol Gymnase Jacqueline Auriol 77340 
CATEGORIES:Festif
STATUS:
URL;VALUE=URI:https://www.umspc-badminton.com/evenements/2026/04/23/jeu-libre-paques-2026-2441739
END:VEVENT
END:VCALENDAR
