BEGIN:VCALENDAR
VERSION:2.0
PRODID:-//hacksw/handcal//NONSGML v1.0//EN
BEGIN:VEVENT
SUMMARY:Jeu libre Paques 2026
UID:bb673244-0950-4019-93c8-f24a16856b74
DTSTART:20260424T170000Z
DTEND:20260424T210000Z
LOCATION:Gymnase Jacqueline Auriol Gymnase Jacqueline Auriol 77340 
CATEGORIES:Festif
STATUS:
URL;VALUE=URI:https://www.umspc-badminton.com/evenements/2026/04/24/jeu-libre-paques-2026-2441742
END:VEVENT
END:VCALENDAR
