BEGIN:VCALENDAR
VERSION:2.0
PRODID:-//hacksw/handcal//NONSGML v1.0//EN
BEGIN:VEVENT
SUMMARY:Jeu libre Paques 2026
UID:f17627d6-4f15-47a8-a92d-3f56f4894e44
DTSTART:20260427T170000Z
DTEND:20260427T200000Z
LOCATION:Gymnase Jean Moulin Gymnase Jean Moulin 77340 
CATEGORIES:Festif
STATUS:
URL;VALUE=URI:https://www.umspc-badminton.com/evenements/2026/04/27/jeu-libre-paques-2026-2441744
END:VEVENT
END:VCALENDAR
