BEGIN:VCALENDAR
VERSION:2.0
PRODID:-//hacksw/handcal//NONSGML v1.0//EN
BEGIN:VEVENT
SUMMARY:Jeu libre Paques 2026
UID:1ab3e3c2-dce5-4a52-a190-db39a91c2568
DTSTART:20260429T170000Z
DTEND:20260429T200000Z
LOCATION:Gymnase Jean Moulin Gymnase Jean Moulin 77340 
CATEGORIES:Festif
STATUS:
URL;VALUE=URI:https://www.umspc-badminton.com/evenements/2026/04/29/jeu-libre-paques-2026-2441746
END:VEVENT
END:VCALENDAR
